BEGIN:VCALENDAR
VERSION:2.0
CALSCALE:GREGORIAN
PRODID:-//Diputació de Barcelona//DibaCMS//EN
BEGIN:VEVENT
UID:1423
DTSTAMP:20260420T132533
DTSTART:20170911T110000
DTEND:20170911T113000
SUMMARY:Ofrena floral en commemoració de la Diada
LOCATION:Placa commemorativa C. de l'Església 
METHOD:PUBLISH
X-WR-CALNAME:tavernoles@tavernoles.cat
X-WR-TIMEZONE:Europe/Madrid
DESCRIPTION:
URI:https://www.tavernoles.cat/actualitat/agenda/1423-ofrena-floral-en-commemoracio-de-la-diada.html
CLASS:PUBLIC
END:VEVENT
END:VCALENDAR
