BEGIN:VCALENDAR
VERSION:2.0
CALSCALE:GREGORIAN
PRODID:-//Diputació de Barcelona//DibaCMS//EN
BEGIN:VEVENT
UID:1727
DTSTAMP:20260420T101435
DTSTART:20180911T110000
DTEND:20180911T113000
SUMMARY:Ofrena floral en commemoració de la Diada
LOCATION:
METHOD:PUBLISH
X-WR-CALNAME:tavernoles@tavernoles.cat
X-WR-TIMEZONE:Europe/Madrid
DESCRIPTION:
URI:https://www.tavernoles.cat/actualitat/agenda/1727-ofrena-floral-en-commemoracio-de-la-diada.html
CLASS:PUBLIC
END:VEVENT
END:VCALENDAR
