BEGIN:VCALENDAR
VERSION:2.0
CALSCALE:GREGORIAN
PRODID:-//Diputació de Barcelona//DibaCMS//EN
BEGIN:VEVENT
UID:8315
DTSTAMP:20260421T111819
DTSTART:20230906T090000
DTEND:20230906T103000
SUMMARY:Reunió PPI Diputació de Barcelona i Espai Natural Guilleries-Savassona
LOCATION:
METHOD:PUBLISH
X-WR-CALNAME:tavernoles@tavernoles.cat
X-WR-TIMEZONE:Europe/Madrid
DESCRIPTION:
URI:https://www.tavernoles.cat/ajuntament-seu-electronica/ajuntament/agenda-politica/reunio-ppi-diputacio-de-barcelona-i-espai-natural-guilleries-savassona.html
CLASS:PUBLIC
END:VEVENT
END:VCALENDAR
