BEGIN:VCALENDAR
VERSION:2.0
CALSCALE:GREGORIAN
PRODID:-//Diputació de Barcelona//DibaCMS//EN
BEGIN:VEVENT
UID:8440
DTSTAMP:20260422T110250
DTSTART:20240120T100000
DTEND:20240120T120000
SUMMARY:Trobada amb el president de la flama del Canigó Osona
LOCATION:Plaça de l'Església, 1 08519 Tavèrnoles
METHOD:PUBLISH
X-WR-CALNAME:tavernoles@tavernoles.cat
X-WR-TIMEZONE:Europe/Madrid
DESCRIPTION:
URI:https://www.tavernoles.cat/ajuntament-seu-electronica/ajuntament/agenda-politica/trobada-amb-el-president-de-la-flama-del-canigo-osona.html
CLASS:PUBLIC
END:VEVENT
END:VCALENDAR
