BEGIN:VCALENDAR
VERSION:2.0
CALSCALE:GREGORIAN
PRODID:-//Diputació de Barcelona//DibaCMS//EN
BEGIN:VEVENT
UID:8773
DTSTAMP:20260425T220621
DTSTART:20251012T000000
DTEND:20251012T000000
SUMMARY:Raid de ponis de Tavèrnoles
LOCATION:Carretera BV-5213. 
METHOD:PUBLISH
X-WR-CALNAME:tavernoles@tavernoles.cat
X-WR-TIMEZONE:Europe/Madrid
DESCRIPTION:
URI:https://www.tavernoles.cat/actualitat/agenda/raid-de-ponis-de-tavernoles.html
CLASS:PUBLIC
END:VEVENT
END:VCALENDAR
