BEGIN:VCALENDAR
VERSION:2.0
CALSCALE:GREGORIAN
PRODID:-//Diputació de Barcelona//DibaCMS//EN
BEGIN:VEVENT
UID:9199
DTSTAMP:20260425T201636
DTSTART:20251011T000000
DTEND:20251011T000000
SUMMARY:IV Raid de Tavèrnoles
LOCATION:Carretera BV-5213. 
METHOD:PUBLISH
X-WR-CALNAME:tavernoles@tavernoles.cat
X-WR-TIMEZONE:Europe/Madrid
DESCRIPTION:El poble de Tavèrnoles organitza el proper dissabte dia 11 d’octubre de 2025 el IV Raid Hípic de Tavèrnoles. Aquesta és una cursa de resistència on cavalls i genets realitzen diferents quilòmetres segons la cursa (40km, 60km, 80km) dividits en fases de 20km.

L’horari previst de la cursa serà de 7 del matí a 17 de la tarda. Serà una jornada on participaran diferents genets de la comarca juntament amb les seves assistències.

URI:https://www.tavernoles.cat/actualitat/agenda/iv-raid-de-tavernoles.html
CLASS:PUBLIC
END:VEVENT
END:VCALENDAR
