BEGIN:VCALENDAR
VERSION:2.0
CALSCALE:GREGORIAN
PRODID:-//Diputació de Barcelona//DibaCMS//EN
BEGIN:VEVENT
UID:9246
DTSTAMP:20260424T133455
DTSTART:20251212T180000
DTEND:20251212T180000
SUMMARY:Encesa de llums de Nadal
LOCATION:
METHOD:PUBLISH
X-WR-CALNAME:tavernoles@tavernoles.cat
X-WR-TIMEZONE:Europe/Madrid
DESCRIPTION:
URI:https://www.tavernoles.cat/actualitat/agenda/encesa-de-llums-de-nadal.html
CLASS:PUBLIC
END:VEVENT
END:VCALENDAR
