BEGIN:VCALENDAR
VERSION:2.0
CALSCALE:GREGORIAN
PRODID:-//Diputació de Barcelona//DibaCMS//EN
BEGIN:VEVENT
UID:9249
DTSTAMP:20260424T151757
DTSTART:20251214T120000
DTEND:20251214T130000
SUMMARY:Arribada del Patge Reial
LOCATION:Plaça de l'Església, 1 08519 Tavèrnoles
METHOD:PUBLISH
X-WR-CALNAME:tavernoles@tavernoles.cat
X-WR-TIMEZONE:Europe/Madrid
DESCRIPTION:
URI:https://www.tavernoles.cat/actualitat/agenda/9249-arribada-del-patge-reial.html
CLASS:PUBLIC
END:VEVENT
END:VCALENDAR
