BEGIN:VCALENDAR
VERSION:2.0
CALSCALE:GREGORIAN
PRODID:-//Diputació de Barcelona//DibaCMS//EN
BEGIN:VEVENT
UID:9250
DTSTAMP:20260424T135046
DTSTART:20251217T180000
DTEND:20251217T200000
SUMMARY:Taller de Centres de Nadal per adults
LOCATION:C/ Montseny, 2 08519 Tavèrnoles
METHOD:PUBLISH
X-WR-CALNAME:tavernoles@tavernoles.cat
X-WR-TIMEZONE:Europe/Madrid
DESCRIPTION:Places limitades!

URI:https://www.tavernoles.cat/actualitat/agenda/9250-taller-de-centres-de-nadal-per-adults.html
CLASS:PUBLIC
END:VEVENT
END:VCALENDAR
