BEGIN:VCALENDAR
VERSION:2.0
CALSCALE:GREGORIAN
PRODID:-//Diputació de Barcelona//DibaCMS//EN
BEGIN:VEVENT
UID:9251
DTSTAMP:20260424T134113
DTSTART:20251218T200000
DTEND:20251218T230000
SUMMARY:Berenar-sopar de Nadal per la gent gran
LOCATION:C/ Montseny, 2 08519 Tavèrnoles
METHOD:PUBLISH
X-WR-CALNAME:tavernoles@tavernoles.cat
X-WR-TIMEZONE:Europe/Madrid
DESCRIPTION:
URI:https://www.tavernoles.cat/actualitat/agenda/9251-berenar-sopar-de-nadal-per-la-gent-gran.html
CLASS:PUBLIC
END:VEVENT
END:VCALENDAR
