BEGIN:VCALENDAR
VERSION:2.0
CALSCALE:GREGORIAN
PRODID:-//Diputació de Barcelona//DibaCMS//EN
BEGIN:VEVENT
UID:9252
DTSTAMP:20260424T153138
DTSTART:20251219T210000
DTEND:20251219T230000
SUMMARY:Sopar de joves
LOCATION:C/ Montseny, 2 08519 Tavèrnoles
METHOD:PUBLISH
X-WR-CALNAME:tavernoles@tavernoles.cat
X-WR-TIMEZONE:Europe/Madrid
DESCRIPTION:
URI:https://www.tavernoles.cat/actualitat/agenda/9252-sopar-de-joves.html
CLASS:PUBLIC
END:VEVENT
END:VCALENDAR
