BEGIN:VCALENDAR
VERSION:2.0
CALSCALE:GREGORIAN
PRODID:-//Diputació de Barcelona//DibaCMS//EN
BEGIN:VEVENT
UID:9256
DTSTAMP:20260424T134245
DTSTART:20251227T190000
DTEND:20251227T190000
SUMMARY:Missa Sagrada Família
LOCATION:C/ de l'Església, 4 08519 Tavèrnoles
METHOD:PUBLISH
X-WR-CALNAME:tavernoles@tavernoles.cat
X-WR-TIMEZONE:Europe/Madrid
DESCRIPTION:
URI:https://www.tavernoles.cat/actualitat/agenda/9256-missa-sagrada-familia.html
CLASS:PUBLIC
END:VEVENT
END:VCALENDAR
