BEGIN:VCALENDAR
VERSION:2.0
CALSCALE:GREGORIAN
PRODID:-//Diputació de Barcelona//DibaCMS//EN
BEGIN:VEVENT
UID:9257
DTSTAMP:20260424T135834
DTSTART:20251231T190000
DTEND:20251231T190000
SUMMARY:Missa Solemnitat de Santa Maria, Mare de Déu
LOCATION:C/ de l'Església, 4 08519 Tavèrnoles
METHOD:PUBLISH
X-WR-CALNAME:tavernoles@tavernoles.cat
X-WR-TIMEZONE:Europe/Madrid
DESCRIPTION:
URI:https://www.tavernoles.cat/actualitat/agenda/9257-missa-solemnitat-de-santa-maria-mare-de-deu.html
CLASS:PUBLIC
END:VEVENT
END:VCALENDAR
