BEGIN:VCALENDAR
VERSION:2.0
CALSCALE:GREGORIAN
PRODID:-//Diputació de Barcelona//DibaCMS//EN
BEGIN:VEVENT
UID:9258
DTSTAMP:20260424T152210
DTSTART:20260105T160000
DTEND:20260105T160000
SUMMARY:Taller de fanalets
LOCATION:C/ Montseny, 2 08519 Tavèrnoles
METHOD:PUBLISH
X-WR-CALNAME:tavernoles@tavernoles.cat
X-WR-TIMEZONE:Europe/Madrid
DESCRIPTION:
URI:https://www.tavernoles.cat/actualitat/agenda/9258-taller-de-fanalets.html
CLASS:PUBLIC
END:VEVENT
END:VCALENDAR
