BEGIN:VCALENDAR
VERSION:2.0
CALSCALE:GREGORIAN
PRODID:-//Diputació de Barcelona//DibaCMS//EN
BEGIN:VEVENT
UID:9259
DTSTAMP:20260424T140256
DTSTART:20260105T180000
DTEND:20260105T180000
SUMMARY:Recepció Reial
LOCATION:Plaça de l'Església, 1 08519 Tavèrnoles
METHOD:PUBLISH
X-WR-CALNAME:tavernoles@tavernoles.cat
X-WR-TIMEZONE:Europe/Madrid
DESCRIPTION:
URI:https://www.tavernoles.cat/actualitat/agenda/9259-recepcio-reial.html
CLASS:PUBLIC
END:VEVENT
END:VCALENDAR
