BEGIN:VCALENDAR
VERSION:2.0
CALSCALE:GREGORIAN
PRODID:-//Diputació de Barcelona//DibaCMS//EN
BEGIN:VEVENT
UID:9260
DTSTAMP:20260424T135244
DTSTART:20260110T190000
DTEND:20260110T190000
SUMMARY:Missa Baptisme del Senyor
LOCATION:C/ de l'Església, 4 08519 Tavèrnoles
METHOD:PUBLISH
X-WR-CALNAME:tavernoles@tavernoles.cat
X-WR-TIMEZONE:Europe/Madrid
DESCRIPTION:
URI:https://www.tavernoles.cat/actualitat/agenda/9260-missa-baptisme-del-senyor.html
CLASS:PUBLIC
END:VEVENT
END:VCALENDAR
