BEGIN:VCALENDAR
VERSION:2.0
CALSCALE:GREGORIAN
PRODID:-//Diputació de Barcelona//DibaCMS//EN
BEGIN:VEVENT
UID:9276
DTSTAMP:20260424T133356
DTSTART:20251222T100000
DTEND:20251222T140000
SUMMARY:Activitats per infants i dinar de Nadal
LOCATION:C/ Montseny, 2 08519 Tavèrnoles
METHOD:PUBLISH
X-WR-CALNAME:tavernoles@tavernoles.cat
X-WR-TIMEZONE:Europe/Madrid
DESCRIPTION:
URI:https://www.tavernoles.cat/actualitat/agenda/9276-activitats-per-infants-i-dinar-de-nadal.html
CLASS:PUBLIC
END:VEVENT
END:VCALENDAR
