BEGIN:VCALENDAR
VERSION:2.0
CALSCALE:GREGORIAN
PRODID:-//Diputació de Barcelona//DibaCMS//EN
BEGIN:VEVENT
UID:9333
DTSTAMP:20260420T135032
DTSTART:20260422T190000
DTEND:20260422T200000
SUMMARY:Sessió informativa: Colònies de Tavèrnoles
LOCATION:Telemàtica 
METHOD:PUBLISH
X-WR-CALNAME:tavernoles@tavernoles.cat
X-WR-TIMEZONE:Europe/Madrid
DESCRIPTION:
URI:https://www.tavernoles.cat/actualitat/agenda/sessio-informativa-colonies-de-tavernoles.html
CLASS:PUBLIC
END:VEVENT
END:VCALENDAR
